BEGIN:VCALENDAR
VERSION:2.0
PRODID:-//The Official Website of the Bezanson Community Event Centre - Discover Bezanson - ECPv6.15.20//NONSGML v1.0//EN
CALSCALE:GREGORIAN
METHOD:PUBLISH
X-WR-CALNAME:The Official Website of the Bezanson Community Event Centre - Discover Bezanson
X-ORIGINAL-URL:https://www.discoverbezanson.ca
X-WR-CALDESC:Events for The Official Website of the Bezanson Community Event Centre - Discover Bezanson
REFRESH-INTERVAL;VALUE=DURATION:PT1H
X-Robots-Tag:noindex
X-PUBLISHED-TTL:PT1H
BEGIN:VTIMEZONE
TZID:America/Edmonton
BEGIN:DAYLIGHT
TZOFFSETFROM:-0700
TZOFFSETTO:-0600
TZNAME:MDT
DTSTART:20250309T090000
END:DAYLIGHT
BEGIN:STANDARD
TZOFFSETFROM:-0600
TZOFFSETTO:-0700
TZNAME:MST
DTSTART:20251102T080000
END:STANDARD
BEGIN:DAYLIGHT
TZOFFSETFROM:-0700
TZOFFSETTO:-0600
TZNAME:MDT
DTSTART:20260308T090000
END:DAYLIGHT
BEGIN:STANDARD
TZOFFSETFROM:-0600
TZOFFSETTO:-0700
TZNAME:MST
DTSTART:20261101T080000
END:STANDARD
BEGIN:DAYLIGHT
TZOFFSETFROM:-0700
TZOFFSETTO:-0600
TZNAME:MDT
DTSTART:20270314T090000
END:DAYLIGHT
BEGIN:STANDARD
TZOFFSETFROM:-0600
TZOFFSETTO:-0700
TZNAME:MST
DTSTART:20271107T080000
END:STANDARD
BEGIN:DAYLIGHT
TZOFFSETFROM:-0700
TZOFFSETTO:-0600
TZNAME:MDT
DTSTART:20280312T090000
END:DAYLIGHT
BEGIN:STANDARD
TZOFFSETFROM:-0600
TZOFFSETTO:-0700
TZNAME:MST
DTSTART:20281105T080000
END:STANDARD
END:VTIMEZONE
BEGIN:VEVENT
DTSTART;TZID=America/Edmonton:20260423T183000
DTEND;TZID=America/Edmonton:20260423T213000
DTSTAMP:20260423T011645
CREATED:20251127T201442Z
LAST-MODIFIED:20251211T184527Z
UID:10002431-1776969000-1776979800@www.discoverbezanson.ca
SUMMARY:Drop in Pickleball
DESCRIPTION:Thursday evenings\n6:30 pm – 8:30 pm \n$5 per drop in \nBezanson Community Event Centre
URL:https://www.discoverbezanson.ca/event/pickleball-drop-in-thursdays/2026-04-23/
LOCATION:Buffalo Gravel Gym\, 9901 100 Ave\, Bezanson\, Alberta\, T0H 0G0\, Canada
CATEGORIES:Program
ATTACH;FMTTYPE=image/png:https://www.discoverbezanson.ca/wp-content/uploads/2024/07/Green-and-Blue-Minimalist-Pickleball-Tournament-Facebook-Post.png
END:VEVENT
BEGIN:VEVENT
DTSTART;TZID=America/Edmonton:20260428T100000
DTEND;TZID=America/Edmonton:20260428T120000
DTSTAMP:20260423T011645
CREATED:20250619T202103Z
LAST-MODIFIED:20250716T203708Z
UID:10002310-1777370400-1777377600@www.discoverbezanson.ca
SUMMARY:Walk & Talk
DESCRIPTION:Seniors Walk & Talk – but really\, anyone is welcome\, seniors or not 🙂 \nHave FREE access to the facility where you can… \nWalk\, jog\, or run indoors. Enjoy a hot coffee and Connect with others! \nTuesdays from 10 a.m. to noon \nOctober 8\, 2024 to May 6\, 2025 \nBezanson Community Event Centre Gymnasium
URL:https://www.discoverbezanson.ca/event/walk-talk-2/2026-04-28/
LOCATION:Buffalo Gravel Gym\, 9901 100 Ave\, Bezanson\, Alberta\, T0H 0G0\, Canada
CATEGORIES:Program
END:VEVENT
BEGIN:VEVENT
DTSTART;TZID=America/Edmonton:20260428T100000
DTEND;TZID=America/Edmonton:20260428T120000
DTSTAMP:20260423T011645
CREATED:20250716T202535Z
LAST-MODIFIED:20250716T203415Z
UID:10002341-1777370400-1777377600@www.discoverbezanson.ca
SUMMARY:Parents & Tots
DESCRIPTION:For children 0-6 years old and their parents/ caregivers. A drop-in style program where parents actively engage with their child in a fun\, social environment that combines opportunities for free play\, information sharing and structured play activities. Provided at no charge through FCSS funding.
URL:https://www.discoverbezanson.ca/event/parents-tots-2-2/2026-04-28/
LOCATION:Bezanson Memorial Hall Basement\, 9901 100 St\, Bezanson\, Alberta\, T0H 0G0\, Canada
CATEGORIES:Program
END:VEVENT
BEGIN:VEVENT
DTSTART;TZID=America/Edmonton:20260430T183000
DTEND;TZID=America/Edmonton:20260430T213000
DTSTAMP:20260423T011645
CREATED:20251127T201442Z
LAST-MODIFIED:20251211T184527Z
UID:10002432-1777573800-1777584600@www.discoverbezanson.ca
SUMMARY:Drop in Pickleball
DESCRIPTION:Thursday evenings\n6:30 pm – 8:30 pm \n$5 per drop in \nBezanson Community Event Centre
URL:https://www.discoverbezanson.ca/event/pickleball-drop-in-thursdays/2026-04-30/
LOCATION:Buffalo Gravel Gym\, 9901 100 Ave\, Bezanson\, Alberta\, T0H 0G0\, Canada
CATEGORIES:Program
ATTACH;FMTTYPE=image/png:https://www.discoverbezanson.ca/wp-content/uploads/2024/07/Green-and-Blue-Minimalist-Pickleball-Tournament-Facebook-Post.png
END:VEVENT
BEGIN:VEVENT
DTSTART;TZID=America/Edmonton:20260505T100000
DTEND;TZID=America/Edmonton:20260505T120000
DTSTAMP:20260423T011645
CREATED:20250619T202103Z
LAST-MODIFIED:20250716T203708Z
UID:10002311-1777975200-1777982400@www.discoverbezanson.ca
SUMMARY:Walk & Talk
DESCRIPTION:Seniors Walk & Talk – but really\, anyone is welcome\, seniors or not 🙂 \nHave FREE access to the facility where you can… \nWalk\, jog\, or run indoors. Enjoy a hot coffee and Connect with others! \nTuesdays from 10 a.m. to noon \nOctober 8\, 2024 to May 6\, 2025 \nBezanson Community Event Centre Gymnasium
URL:https://www.discoverbezanson.ca/event/walk-talk-2/2026-05-05/
LOCATION:Buffalo Gravel Gym\, 9901 100 Ave\, Bezanson\, Alberta\, T0H 0G0\, Canada
CATEGORIES:Program
END:VEVENT
BEGIN:VEVENT
DTSTART;TZID=America/Edmonton:20260505T100000
DTEND;TZID=America/Edmonton:20260505T120000
DTSTAMP:20260423T011645
CREATED:20250716T202535Z
LAST-MODIFIED:20250716T203415Z
UID:10002342-1777975200-1777982400@www.discoverbezanson.ca
SUMMARY:Parents & Tots
DESCRIPTION:For children 0-6 years old and their parents/ caregivers. A drop-in style program where parents actively engage with their child in a fun\, social environment that combines opportunities for free play\, information sharing and structured play activities. Provided at no charge through FCSS funding.
URL:https://www.discoverbezanson.ca/event/parents-tots-2-2/2026-05-05/
LOCATION:Bezanson Memorial Hall Basement\, 9901 100 St\, Bezanson\, Alberta\, T0H 0G0\, Canada
CATEGORIES:Program
END:VEVENT
BEGIN:VEVENT
DTSTART;TZID=America/Edmonton:20260512T100000
DTEND;TZID=America/Edmonton:20260512T120000
DTSTAMP:20260423T011645
CREATED:20250716T202535Z
LAST-MODIFIED:20250716T203415Z
UID:10002343-1778580000-1778587200@www.discoverbezanson.ca
SUMMARY:Parents & Tots
DESCRIPTION:For children 0-6 years old and their parents/ caregivers. A drop-in style program where parents actively engage with their child in a fun\, social environment that combines opportunities for free play\, information sharing and structured play activities. Provided at no charge through FCSS funding.
URL:https://www.discoverbezanson.ca/event/parents-tots-2-2/2026-05-12/
LOCATION:Bezanson Memorial Hall Basement\, 9901 100 St\, Bezanson\, Alberta\, T0H 0G0\, Canada
CATEGORIES:Program
END:VEVENT
BEGIN:VEVENT
DTSTART;TZID=America/Edmonton:20260515T090000
DTEND;TZID=America/Edmonton:20260518T160000
DTSTAMP:20260423T011645
CREATED:20250910T181442Z
LAST-MODIFIED:20250910T181442Z
UID:10002394-1778835600-1779120000@www.discoverbezanson.ca
SUMMARY:Private Rental (Memorial Hall)
DESCRIPTION:
URL:https://www.discoverbezanson.ca/event/private-rental-memorial-hall/
LOCATION:Alberta
END:VEVENT
BEGIN:VEVENT
DTSTART;TZID=America/Edmonton:20260519T100000
DTEND;TZID=America/Edmonton:20260519T120000
DTSTAMP:20260423T011645
CREATED:20250716T202535Z
LAST-MODIFIED:20250716T203415Z
UID:10002344-1779184800-1779192000@www.discoverbezanson.ca
SUMMARY:Parents & Tots
DESCRIPTION:For children 0-6 years old and their parents/ caregivers. A drop-in style program where parents actively engage with their child in a fun\, social environment that combines opportunities for free play\, information sharing and structured play activities. Provided at no charge through FCSS funding.
URL:https://www.discoverbezanson.ca/event/parents-tots-2-2/2026-05-19/
LOCATION:Bezanson Memorial Hall Basement\, 9901 100 St\, Bezanson\, Alberta\, T0H 0G0\, Canada
CATEGORIES:Program
END:VEVENT
BEGIN:VEVENT
DTSTART;TZID=America/Edmonton:20260526T100000
DTEND;TZID=America/Edmonton:20260526T120000
DTSTAMP:20260423T011645
CREATED:20250716T202535Z
LAST-MODIFIED:20250716T203415Z
UID:10002345-1779789600-1779796800@www.discoverbezanson.ca
SUMMARY:Parents & Tots
DESCRIPTION:For children 0-6 years old and their parents/ caregivers. A drop-in style program where parents actively engage with their child in a fun\, social environment that combines opportunities for free play\, information sharing and structured play activities. Provided at no charge through FCSS funding.
URL:https://www.discoverbezanson.ca/event/parents-tots-2-2/2026-05-26/
LOCATION:Bezanson Memorial Hall Basement\, 9901 100 St\, Bezanson\, Alberta\, T0H 0G0\, Canada
CATEGORIES:Program
END:VEVENT
BEGIN:VEVENT
DTSTART;TZID=America/Edmonton:20260527T090000
DTEND;TZID=America/Edmonton:20260527T160000
DTSTAMP:20260423T011645
CREATED:20260415T190652Z
LAST-MODIFIED:20260415T190652Z
UID:10002500-1779872400-1779897600@www.discoverbezanson.ca
SUMMARY:Basic First Aid Training
DESCRIPTION:Register by clicking the link: bit.ly/bezagprograms
URL:https://www.discoverbezanson.ca/event/basic-first-aid-training/
LOCATION:Bezanson Community Event Centre\, 9901 100 Ave\, Bezanson\, Alberta\, T0H 0G0\, Canada
ATTACH;FMTTYPE=image/png:https://www.discoverbezanson.ca/wp-content/uploads/2026/04/Basic-First-Aid-Training-Poster.png
END:VEVENT
BEGIN:VEVENT
DTSTART;TZID=America/Edmonton:20260602T100000
DTEND;TZID=America/Edmonton:20260602T120000
DTSTAMP:20260423T011645
CREATED:20250716T202535Z
LAST-MODIFIED:20250716T203415Z
UID:10002346-1780394400-1780401600@www.discoverbezanson.ca
SUMMARY:Parents & Tots
DESCRIPTION:For children 0-6 years old and their parents/ caregivers. A drop-in style program where parents actively engage with their child in a fun\, social environment that combines opportunities for free play\, information sharing and structured play activities. Provided at no charge through FCSS funding.
URL:https://www.discoverbezanson.ca/event/parents-tots-2-2/2026-06-02/
LOCATION:Bezanson Memorial Hall Basement\, 9901 100 St\, Bezanson\, Alberta\, T0H 0G0\, Canada
CATEGORIES:Program
END:VEVENT
BEGIN:VEVENT
DTSTART;TZID=America/Edmonton:20260605T090000
DTEND;TZID=America/Edmonton:20260607T160000
DTSTAMP:20260423T011645
CREATED:20250910T181623Z
LAST-MODIFIED:20250910T181623Z
UID:10002395-1780650000-1780848000@www.discoverbezanson.ca
SUMMARY:Private Rental (Memorial Hall)
DESCRIPTION:
URL:https://www.discoverbezanson.ca/event/private-rental-memorial-hall-4/
LOCATION:Alberta
CATEGORIES:Rental
END:VEVENT
BEGIN:VEVENT
DTSTART;TZID=America/Edmonton:20260609T100000
DTEND;TZID=America/Edmonton:20260609T120000
DTSTAMP:20260423T011645
CREATED:20250716T202535Z
LAST-MODIFIED:20250716T203415Z
UID:10002347-1780999200-1781006400@www.discoverbezanson.ca
SUMMARY:Parents & Tots
DESCRIPTION:For children 0-6 years old and their parents/ caregivers. A drop-in style program where parents actively engage with their child in a fun\, social environment that combines opportunities for free play\, information sharing and structured play activities. Provided at no charge through FCSS funding.
URL:https://www.discoverbezanson.ca/event/parents-tots-2-2/2026-06-09/
LOCATION:Bezanson Memorial Hall Basement\, 9901 100 St\, Bezanson\, Alberta\, T0H 0G0\, Canada
CATEGORIES:Program
END:VEVENT
BEGIN:VEVENT
DTSTART;TZID=America/Edmonton:20260612T090000
DTEND;TZID=America/Edmonton:20260614T160000
DTSTAMP:20260423T011645
CREATED:20250910T181721Z
LAST-MODIFIED:20250910T181721Z
UID:10002396-1781254800-1781452800@www.discoverbezanson.ca
SUMMARY:Private Rental (Memorial Hall)
DESCRIPTION:
URL:https://www.discoverbezanson.ca/event/private-rental-memorial-hall-5/
LOCATION:Alberta
CATEGORIES:Rental
END:VEVENT
BEGIN:VEVENT
DTSTART;TZID=America/Edmonton:20260616T100000
DTEND;TZID=America/Edmonton:20260616T120000
DTSTAMP:20260423T011645
CREATED:20250716T202535Z
LAST-MODIFIED:20250716T203415Z
UID:10002348-1781604000-1781611200@www.discoverbezanson.ca
SUMMARY:Parents & Tots
DESCRIPTION:For children 0-6 years old and their parents/ caregivers. A drop-in style program where parents actively engage with their child in a fun\, social environment that combines opportunities for free play\, information sharing and structured play activities. Provided at no charge through FCSS funding.
URL:https://www.discoverbezanson.ca/event/parents-tots-2-2/2026-06-16/
LOCATION:Bezanson Memorial Hall Basement\, 9901 100 St\, Bezanson\, Alberta\, T0H 0G0\, Canada
CATEGORIES:Program
END:VEVENT
BEGIN:VEVENT
DTSTART;TZID=America/Edmonton:20260710T090000
DTEND;TZID=America/Edmonton:20260712T160000
DTSTAMP:20260423T011645
CREATED:20250910T181810Z
LAST-MODIFIED:20250910T181810Z
UID:10002397-1783674000-1783872000@www.discoverbezanson.ca
SUMMARY:Private Rental (Memorial Hall)
DESCRIPTION:
URL:https://www.discoverbezanson.ca/event/private-rental-memorial-hall-6/
LOCATION:Alberta
CATEGORIES:Rental
END:VEVENT
BEGIN:VEVENT
DTSTART;VALUE=DATE:20260906
DTEND;VALUE=DATE:20260907
DTSTAMP:20260423T011645
CREATED:20260202T213048Z
LAST-MODIFIED:20260202T213048Z
UID:10002496-1788652800-1788739199@www.discoverbezanson.ca
SUMMARY:Horse Show
DESCRIPTION:SAVE THE DATE\nBezanson Agricultural Society Horse Show \nMore information to be released soon!
URL:https://www.discoverbezanson.ca/event/horse-show/
LOCATION:Bezanson Agricultural Society Grounds\, 9901 100 Ave\, Bezanson\, Alberta\, T0H 0G0\, Canada
CATEGORIES:Event
END:VEVENT
BEGIN:VEVENT
DTSTART;TZID=America/Edmonton:20260911T090000
DTEND;TZID=America/Edmonton:20260913T160000
DTSTAMP:20260423T011645
CREATED:20250910T182255Z
LAST-MODIFIED:20250910T182255Z
UID:10002399-1789117200-1789315200@www.discoverbezanson.ca
SUMMARY:Private Rental (Memorial Hall)
DESCRIPTION:
URL:https://www.discoverbezanson.ca/event/private-rental-memorial-hall-8/
LOCATION:Alberta
CATEGORIES:Rental
END:VEVENT
BEGIN:VEVENT
DTSTART;VALUE=DATE:20270613
DTEND;VALUE=DATE:20270614
DTSTAMP:20260423T011645
CREATED:20260317T204709Z
LAST-MODIFIED:20260317T204709Z
UID:10002498-1812844800-1812931199@www.discoverbezanson.ca
SUMMARY:Horse Show 2027
DESCRIPTION:
URL:https://www.discoverbezanson.ca/event/horse-show-2027/
LOCATION:Alberta
CATEGORIES:Event
END:VEVENT
END:VCALENDAR